BEGIN:VCALENDAR
VERSION:2.0
PRODID:-//Sabre//Sabre VObject 4.5.8//EN
CALSCALE:GREGORIAN
BEGIN:VEVENT
UID:sabre-vobject-0c925060-5087-4c13-a51a-a72bb9ab2787
DTSTAMP:20260426T025111Z
SUMMARY:Testing event 02202024 - should be able to pin
DESCRIPTION:test\n
X-ALT-DESC:FMTTYPE=text/html:<!DOCTYPE HTML PUBLIC "-//W3C//DTD HTML 3.2//E
 N"><HTML><p>test</p>\n</HTML>
CREATED:20240219T225547Z
URL;VALUE=URI:https://training.armymwr.com/view-event
DTSTART:20240219T223000Z
DTEND:20240219T233000Z
SEQUENCE:0
END:VEVENT
END:VCALENDAR
