BEGIN:VCALENDAR
VERSION:2.0
PRODID:-//Sabre//Sabre VObject 4.5.8//EN
CALSCALE:GREGORIAN
BEGIN:VEVENT
UID:sabre-vobject-abb71575-962b-4ffa-aa2d-8962edf85a23
DTSTAMP:20260425T103250Z
SUMMARY:Testing Event Pinning 02192024
DESCRIPTION:test\n
X-ALT-DESC:FMTTYPE=text/html:<!DOCTYPE HTML PUBLIC "-//W3C//DTD HTML 3.2//E
 N"><HTML><p>test</p>\n</HTML>
CREATED:20240219T214445Z
URL;VALUE=URI:https://training.armymwr.com/view-event
DTSTART:20240223T213000Z
DTEND:20240223T223000Z
SEQUENCE:0
END:VEVENT
END:VCALENDAR
